BEGIN:VCALENDAR
VERSION:2.0
PRODID:-//#IglesiaporelTrabajoDecente • ITD - ECPv6.15.20//NONSGML v1.0//EN
CALSCALE:GREGORIAN
METHOD:PUBLISH
X-ORIGINAL-URL:https://www.iglesiaporeltrabajodecente.org
X-WR-CALDESC:Eventos para #IglesiaporelTrabajoDecente • ITD
REFRESH-INTERVAL;VALUE=DURATION:PT1H
X-Robots-Tag:noindex
X-PUBLISHED-TTL:PT1H
BEGIN:VTIMEZONE
TZID:Europe/Madrid
BEGIN:DAYLIGHT
TZOFFSETFROM:+0100
TZOFFSETTO:+0200
TZNAME:CEST
DTSTART:20170326T010000
END:DAYLIGHT
BEGIN:STANDARD
TZOFFSETFROM:+0200
TZOFFSETTO:+0100
TZNAME:CET
DTSTART:20171029T010000
END:STANDARD
BEGIN:DAYLIGHT
TZOFFSETFROM:+0100
TZOFFSETTO:+0200
TZNAME:CEST
DTSTART:20180325T010000
END:DAYLIGHT
BEGIN:STANDARD
TZOFFSETFROM:+0200
TZOFFSETTO:+0100
TZNAME:CET
DTSTART:20181028T010000
END:STANDARD
BEGIN:DAYLIGHT
TZOFFSETFROM:+0100
TZOFFSETTO:+0200
TZNAME:CEST
DTSTART:20190331T010000
END:DAYLIGHT
BEGIN:STANDARD
TZOFFSETFROM:+0200
TZOFFSETTO:+0100
TZNAME:CET
DTSTART:20191027T010000
END:STANDARD
END:VTIMEZONE
BEGIN:VEVENT
DTSTART;VALUE=DATE:20180514
DTEND;VALUE=DATE:20190101
DTSTAMP:20260423T124124
CREATED:20180515T152141Z
LAST-MODIFIED:20180515T152401Z
UID:1747-1526338800-1546297199@www.iglesiaporeltrabajodecente.org
SUMMARY:Campaña de adhesión a Iglesia por el Trabajo Decente
DESCRIPTION:La campaña de adhesión a la iniciativa Iglesia por el Trabajo Decente (ITD) está dirigida a parroquias\, grupos\, movimientos y organizaciones de la Iglesia que toman «conciencia de que el desempleo\, el trabajo precario\, la desigualdad en el acceso a un trabajo decente y la limitación al ejercicio de los derechos humanos que esto supone\, son un atentado a la dignidad humana» y animar a sumarse a la exigencia de trabajo decente\, que no es ajena en la Iglesia. \nPor citar algunos ejemplos\, en Caritas in veritate\, se señala que el trabajo decente es «expresión de la dignidad esencial de todo hombre o mujer» (n. 63). En Laudato si’ se insiste en la importancia de la dignidad del trabajo y del trabajo digno para la realización de la dignidad humana\, la lucha contra la pobreza y la configuración de una sociedad que\, con el trabajo de las personas\, cuide la vida de todos y la casa común\, realizando así la vocación humana (n. 128). Y en Iglesia\, servidora de los pobres\, instrucción pastoral de la Conferencia Episcopal Española\, señala que «para que el trabajo sirva para realizar a la persona\, además de satisfacer sus necesidades básicas\, ha de ser un trabajo digno y estable. (…) La política económica debe estar al servicio del trabajo digno. (…) Defender el trabajo decente significa poner en el centro a la persona en vez de la rentabilidad económica; ir más allá del empleo y distribuirlo justamente; reconocer los trabajos de cuidado necesarios para la vida; luchar por condiciones dignas y el cumplimiento de los derechos; conciliar trabajo y descanso; y desvincular derechos y empleo. Es una misión irrenunciable ante el aumento de las desigualdades y de la pobreza laboral. Y es esencial para una sociedad más decente» (3.6). \nPara solicitar la adhesión a ITD\, puede realizarse desde este formulario. \nAyúdanos a compartir este texto\n				Compartir en X (Se abre en una ventana nueva)\n				X\n			\n				Comparte en Facebook (Se abre en una ventana nueva)\n				Facebook\n			\n				Compartir en WhatsApp (Se abre en una ventana nueva)\n				WhatsApp\n			\n				Compartir en Telegram (Se abre en una ventana nueva)\n				Telegram\n			\n				Enviar un enlace a un amigo por correo electrónico (Se abre en una ventana nueva)\n				Correo electrónico
URL:https://www.iglesiaporeltrabajodecente.org/agenda/campana-de-adhesion-a-iglesia-por-el-trabajo-decente/
CATEGORIES:Adhesión
ATTACH;FMTTYPE=image/png:https://www.iglesiaporeltrabajodecente.org/wp-content/uploads/2017/05/itd_adhesion-04-1.png
ORGANIZER;CN="Iglesia por el Trabajo Decente":MAILTO:comunicacion@iglesiaporeltrabajodecente.org
END:VEVENT
BEGIN:VEVENT
DTSTART;TZID=Europe/Madrid:20181004T170000
DTEND;TZID=Europe/Madrid:20181004T190000
DTSTAMP:20260423T124124
CREATED:20180926T102211Z
LAST-MODIFIED:20181001T081629Z
UID:1891-1538672400-1538679600@www.iglesiaporeltrabajodecente.org
SUMMARY:Canarias | Mesa redonda: El futuro del trabajo... La precariedad
DESCRIPTION:Intervendrán: Antonio González Vieitez\, economista\, y dos testimonios de trabajadores. \nEn el salón de actos de la biblioteca estatal. \nAyúdanos a compartir este texto\n				Compartir en X (Se abre en una ventana nueva)\n				X\n			\n				Comparte en Facebook (Se abre en una ventana nueva)\n				Facebook\n			\n				Compartir en WhatsApp (Se abre en una ventana nueva)\n				WhatsApp\n			\n				Compartir en Telegram (Se abre en una ventana nueva)\n				Telegram\n			\n				Enviar un enlace a un amigo por correo electrónico (Se abre en una ventana nueva)\n				Correo electrónico
URL:https://www.iglesiaporeltrabajodecente.org/agenda/canarias-mesa-redonda-el-futuro-del-trabajo-la-precariedad/
LOCATION:Biblioteca pública del Estado\, Calle Muelle Las Palmas\, 8\, Las Palmas de Gran Canaria\, 35003
CATEGORIES:JMTD 2018
ATTACH;FMTTYPE=image/jpeg:https://www.iglesiaporeltrabajodecente.org/wp-content/uploads/2018/09/WEB_cartel_jornadas_trabajo_digno_DIGITAL-e1538381928249.jpg
END:VEVENT
BEGIN:VEVENT
DTSTART;TZID=Europe/Madrid:20181004T180000
DTEND;TZID=Europe/Madrid:20181004T180000
DTSTAMP:20260423T124124
CREATED:20180926T151202Z
LAST-MODIFIED:20180926T151203Z
UID:1914-1538676000-1538676000@www.iglesiaporeltrabajodecente.org
SUMMARY:Lugo | Vigilia de oración por el Trabajo Decente
DESCRIPTION:Ayúdanos a compartir este texto\n				Compartir en X (Se abre en una ventana nueva)\n				X\n			\n				Comparte en Facebook (Se abre en una ventana nueva)\n				Facebook\n			\n				Compartir en WhatsApp (Se abre en una ventana nueva)\n				WhatsApp\n			\n				Compartir en Telegram (Se abre en una ventana nueva)\n				Telegram\n			\n				Enviar un enlace a un amigo por correo electrónico (Se abre en una ventana nueva)\n				Correo electrónico
URL:https://www.iglesiaporeltrabajodecente.org/agenda/lugo-vigilia-de-oracion-por-el-trabajo-decente/
LOCATION:Parroquia San Francisco Javier\, C/Roi Xordo\, 3\, Lugo
CATEGORIES:JMTD 2018
ORGANIZER;CN="C%C3%A1ritas":MAILTO:correo@caritas.es
END:VEVENT
BEGIN:VEVENT
DTSTART;TZID=Europe/Madrid:20181004T180000
DTEND;TZID=Europe/Madrid:20181004T180000
DTSTAMP:20260423T124124
CREATED:20180928T110102Z
LAST-MODIFIED:20180928T110728Z
UID:1968-1538676000-1538676000@www.iglesiaporeltrabajodecente.org
SUMMARY:Alcalá de Henares | Mesa redonda
DESCRIPTION:Con la participación de: \nVicente García\, secretario general de CCOO Alcalá de Henares. \nJesús La Roda\, secretario general de UGT Alcalá de Henares. \nRepresentante de Territorio Doméstico. \nSalvador Tejera\, responsable de Compromiso de la HOAC de Alcalá. \nOtros testimonios de precariedad. \nAyúdanos a compartir este texto\n				Compartir en X (Se abre en una ventana nueva)\n				X\n			\n				Comparte en Facebook (Se abre en una ventana nueva)\n				Facebook\n			\n				Compartir en WhatsApp (Se abre en una ventana nueva)\n				WhatsApp\n			\n				Compartir en Telegram (Se abre en una ventana nueva)\n				Telegram\n			\n				Enviar un enlace a un amigo por correo electrónico (Se abre en una ventana nueva)\n				Correo electrónico
URL:https://www.iglesiaporeltrabajodecente.org/agenda/alcala-de-henares-mesa-redonda/
LOCATION:Centro de Salud\, Calle Santiago\, 13\, Alcalá de Henares
CATEGORIES:JMTD 2018
ORGANIZER;CN="HOAC":MAILTO:difusion@hoac.es
END:VEVENT
BEGIN:VEVENT
DTSTART;TZID=Europe/Madrid:20181004T183000
DTEND;TZID=Europe/Madrid:20181004T183000
DTSTAMP:20260423T124124
CREATED:20181001T080443Z
LAST-MODIFIED:20181001T080443Z
UID:1984-1538677800-1538677800@www.iglesiaporeltrabajodecente.org
SUMMARY:Córdoba | Eucaristía y gesto público
DESCRIPTION:Ayúdanos a compartir este texto\n				Compartir en X (Se abre en una ventana nueva)\n				X\n			\n				Comparte en Facebook (Se abre en una ventana nueva)\n				Facebook\n			\n				Compartir en WhatsApp (Se abre en una ventana nueva)\n				WhatsApp\n			\n				Compartir en Telegram (Se abre en una ventana nueva)\n				Telegram\n			\n				Enviar un enlace a un amigo por correo electrónico (Se abre en una ventana nueva)\n				Correo electrónico
URL:https://www.iglesiaporeltrabajodecente.org/agenda/cordoba-eucaristia-y-gesto-publico/
LOCATION:Parroquia de Ntra. Sra. de Linares\, C/Hernando de Magallanes\, s/n\, Córdoba
CATEGORIES:JMTD 2018
ORGANIZER;CN="C%C3%A1ritas":MAILTO:correo@caritas.es
END:VEVENT
BEGIN:VEVENT
DTSTART;TZID=Europe/Madrid:20181004T183000
DTEND;TZID=Europe/Madrid:20181004T203000
DTSTAMP:20260423T124124
CREATED:20181001T081142Z
LAST-MODIFIED:20181001T081323Z
UID:1994-1538677800-1538685000@www.iglesiaporeltrabajodecente.org
SUMMARY:Getafe | Concentración y vigilia
DESCRIPTION:Defendemos el trabajo decente.\n\n\n\n\nPrimero tendrá lugar la concentración en la Plaza de la estación de Getafe y\, posteriormente\, se celebrará la vigilia en la Catedral a las 20:30h.\n\n\n\n\n\n\n\n\n\n\nAyúdanos a compartir este texto\n				Compartir en X (Se abre en una ventana nueva)\n				X\n			\n				Comparte en Facebook (Se abre en una ventana nueva)\n				Facebook\n			\n				Compartir en WhatsApp (Se abre en una ventana nueva)\n				WhatsApp\n			\n				Compartir en Telegram (Se abre en una ventana nueva)\n				Telegram\n			\n				Enviar un enlace a un amigo por correo electrónico (Se abre en una ventana nueva)\n				Correo electrónico
URL:https://www.iglesiaporeltrabajodecente.org/agenda/getafe-concentracion-y-vigilia/
LOCATION:Catedral de Getafe\, Plaza de la Magdalena\, Getafe\, Madrid
ORGANIZER;CN="C%C3%A1ritas":MAILTO:correo@caritas.es
END:VEVENT
BEGIN:VEVENT
DTSTART;TZID=Europe/Madrid:20181004T193000
DTEND;TZID=Europe/Madrid:20181004T193000
DTSTAMP:20260423T124124
CREATED:20181004T122926Z
LAST-MODIFIED:20181004T122926Z
UID:2087-1538681400-1538681400@www.iglesiaporeltrabajodecente.org
SUMMARY:Elda | Vigilia de oración
DESCRIPTION:Ayúdanos a compartir este texto\n				Compartir en X (Se abre en una ventana nueva)\n				X\n			\n				Comparte en Facebook (Se abre en una ventana nueva)\n				Facebook\n			\n				Compartir en WhatsApp (Se abre en una ventana nueva)\n				WhatsApp\n			\n				Compartir en Telegram (Se abre en una ventana nueva)\n				Telegram\n			\n				Enviar un enlace a un amigo por correo electrónico (Se abre en una ventana nueva)\n				Correo electrónico
URL:https://www.iglesiaporeltrabajodecente.org/agenda/elda-vigilia-de-oracion/
LOCATION:Parroquia San Francisco de Sales\, Plaza Hispanidad s/n\, Elda
CATEGORIES:JMTD 2018
END:VEVENT
END:VCALENDAR