BEGIN:VCALENDAR
VERSION:2.0
PRODID:-//#IglesiaporelTrabajoDecente • ITD - ECPv6.15.20//NONSGML v1.0//EN
CALSCALE:GREGORIAN
METHOD:PUBLISH
X-ORIGINAL-URL:https://www.iglesiaporeltrabajodecente.org
X-WR-CALDESC:Eventos para #IglesiaporelTrabajoDecente • ITD
REFRESH-INTERVAL;VALUE=DURATION:PT1H
X-Robots-Tag:noindex
X-PUBLISHED-TTL:PT1H
BEGIN:VTIMEZONE
TZID:Europe/Madrid
BEGIN:DAYLIGHT
TZOFFSETFROM:+0100
TZOFFSETTO:+0200
TZNAME:CEST
DTSTART:20180325T010000
END:DAYLIGHT
BEGIN:STANDARD
TZOFFSETFROM:+0200
TZOFFSETTO:+0100
TZNAME:CET
DTSTART:20181028T010000
END:STANDARD
BEGIN:DAYLIGHT
TZOFFSETFROM:+0100
TZOFFSETTO:+0200
TZNAME:CEST
DTSTART:20190331T010000
END:DAYLIGHT
BEGIN:STANDARD
TZOFFSETFROM:+0200
TZOFFSETTO:+0100
TZNAME:CET
DTSTART:20191027T010000
END:STANDARD
BEGIN:DAYLIGHT
TZOFFSETFROM:+0100
TZOFFSETTO:+0200
TZNAME:CEST
DTSTART:20200329T010000
END:DAYLIGHT
BEGIN:STANDARD
TZOFFSETFROM:+0200
TZOFFSETTO:+0100
TZNAME:CET
DTSTART:20201025T010000
END:STANDARD
END:VTIMEZONE
BEGIN:VEVENT
DTSTART;VALUE=DATE:20190204
DTEND;VALUE=DATE:20200101
DTSTAMP:20260419T172514
CREATED:20190205T102709Z
LAST-MODIFIED:20190205T102807Z
UID:2269-1549321200-1577833199@www.iglesiaporeltrabajodecente.org
SUMMARY:Campaña de adhesión a Iglesia por el Trabajo Decente
DESCRIPTION:La campaña de adhesión a la iniciativa Iglesia por el Trabajo Decente (ITD) está dirigida a parroquias\, grupos\, movimientos y organizaciones de la Iglesia que toman «conciencia de que el desempleo\, el trabajo precario\, la desigualdad en el acceso a un trabajo decente y la limitación al ejercicio de los derechos humanos que esto supone\, son un atentado a la dignidad humana» y animar a sumarse a la exigencia de trabajo decente\, que no es ajena en la Iglesia. \nPor citar algunos ejemplos\, en Caritas in veritate\, se señala que el trabajo decente es «expresión de la dignidad esencial de todo hombre o mujer» (n. 63). En Laudato si’ se insiste en la importancia de la dignidad del trabajo y del trabajo digno para la realización de la dignidad humana\, la lucha contra la pobreza y la configuración de una sociedad que\, con el trabajo de las personas\, cuide la vida de todos y la casa común\, realizando así la vocación humana (n. 128). Y en Iglesia\, servidora de los pobres\, instrucción pastoral de la Conferencia Episcopal Española\, señala que «para que el trabajo sirva para realizar a la persona\, además de satisfacer sus necesidades básicas\, ha de ser un trabajo digno y estable. (…) La política económica debe estar al servicio del trabajo digno. (…) Defender el trabajo decente significa poner en el centro a la persona en vez de la rentabilidad económica; ir más allá del empleo y distribuirlo justamente; reconocer los trabajos de cuidado necesarios para la vida; luchar por condiciones dignas y el cumplimiento de los derechos; conciliar trabajo y descanso; y desvincular derechos y empleo. Es una misión irrenunciable ante el aumento de las desigualdades y de la pobreza laboral. Y es esencial para una sociedad más decente» (3.6). \nPara solicitar la adhesión a ITD\, puede realizarse desde este formulario. \nAyúdanos a compartir este texto\n				Compartir en X (Se abre en una ventana nueva)\n				X\n			\n				Comparte en Facebook (Se abre en una ventana nueva)\n				Facebook\n			\n				Compartir en WhatsApp (Se abre en una ventana nueva)\n				WhatsApp\n			\n				Compartir en Telegram (Se abre en una ventana nueva)\n				Telegram\n			\n				Enviar un enlace a un amigo por correo electrónico (Se abre en una ventana nueva)\n				Correo electrónico
URL:https://www.iglesiaporeltrabajodecente.org/agenda/campana-de-adhesion-a-iglesia-por-el-trabajo-decente-2/
CATEGORIES:Adhesión
ATTACH;FMTTYPE=image/png:https://www.iglesiaporeltrabajodecente.org/wp-content/uploads/2017/05/itd_adhesion-04-1.png
ORGANIZER;CN="Iglesia por el Trabajo Decente":MAILTO:comunicacion@iglesiaporeltrabajodecente.org
END:VEVENT
BEGIN:VEVENT
DTSTART;TZID=Europe/Madrid:20190423T103000
DTEND;TZID=Europe/Madrid:20190501T233000
DTSTAMP:20260419T172514
CREATED:20190411T081345Z
LAST-MODIFIED:20190424T094939Z
UID:2491-1556015400-1556753400@www.iglesiaporeltrabajodecente.org
SUMMARY:Campaña 1º Mayo 2019 en redes sociales #NoSoyUnDescarte
DESCRIPTION:Con la publicación del manifiesto y de la nota de prensa con motivo de la convocatoria del Primero de Mayo\, la iniciativa Iglesia por el Trabajo Decente pone en marcha una microcampaña en redes sociales. Una acción abierta a quienes quieran favorecer la difusión de sus contenidos y conversar sobre ellos. \n#NoSoyUnDescarte es la etiqueta (hashtag) lanzada para compartir los contenidos del manifiesto\, los datos sobre la sobre la situación de indecente precariedad que hay en España y las 8 imágenes adecuadas para acompañar esta microcampaña. Lo haremos desde la cuenta de ITD en Twitter (@IglesiaxTD) y desde los perfiles de las entidades promotoras. \n■ Documento de orientaciones (pdf) \n■ Imágenes para redes sociales. \n\n\n	\n		\n			\n				\n			\n		\n		\n			\n				\n			\n		\n		\n			\n				\n			\n		\n		\n			\n				\n			\n		\n		\n			\n				\n			\n		\n		\n			\n				\n			\n		\n		\n			\n				\n			\n		\n		\n			\n				\n			\n		\n\n	 \n	\n\n\nMás info en: \nFollow @iglesiaxtd \ncomunicacion[@]iglesiaporeltrabajodecente.org \nAyúdanos a compartir este texto\n				Compartir en X (Se abre en una ventana nueva)\n				X\n			\n				Comparte en Facebook (Se abre en una ventana nueva)\n				Facebook\n			\n				Compartir en WhatsApp (Se abre en una ventana nueva)\n				WhatsApp\n			\n				Compartir en Telegram (Se abre en una ventana nueva)\n				Telegram\n			\n				Enviar un enlace a un amigo por correo electrónico (Se abre en una ventana nueva)\n				Correo electrónico
URL:https://www.iglesiaporeltrabajodecente.org/agenda/itd-campana-1o-mayo-en-redes-sociales-2/
LOCATION:Internet > Redes sociales
CATEGORIES:1Mayo
ATTACH;FMTTYPE=image/png:https://www.iglesiaporeltrabajodecente.org/wp-content/uploads/2019/04/ITD_redessociales1mayo2019-02.png
ORGANIZER;CN="ITD":MAILTO:comunicacion@iglesiaporeltrabajodecente.org
END:VEVENT
BEGIN:VEVENT
DTSTART;TZID=Europe/Madrid:20190429T180000
DTEND;TZID=Europe/Madrid:20190429T193000
DTSTAMP:20260419T172514
CREATED:20190424T083716Z
LAST-MODIFIED:20190424T083716Z
UID:2616-1556560800-1556566200@www.iglesiaporeltrabajodecente.org
SUMMARY:Getxo | Oración y Gesto Público. Solidaridad con las víctimas de la siniestralidad laboral y sus familias
DESCRIPTION:Organiza Iglesia por el Trabajo Decente de la diócesis de Bilbao: Cáritas\, Confer\, HOAC\, Justicia y Paz\, JEC\, JOC\, Pastoral Obrera\, Pastoral Migraciones. Delegación Caridad y Justicia y Comunidad Cristiana Parroquia San José de Romo – Getxo. \nOración en la parroquia San José de Romo y gesto público en plaza Santa Eugenia-Romo de Getxo. \nAyúdanos a compartir este texto\n				Compartir en X (Se abre en una ventana nueva)\n				X\n			\n				Comparte en Facebook (Se abre en una ventana nueva)\n				Facebook\n			\n				Compartir en WhatsApp (Se abre en una ventana nueva)\n				WhatsApp\n			\n				Compartir en Telegram (Se abre en una ventana nueva)\n				Telegram\n			\n				Enviar un enlace a un amigo por correo electrónico (Se abre en una ventana nueva)\n				Correo electrónico
URL:https://www.iglesiaporeltrabajodecente.org/agenda/getxo-oracion-y-gesto-publico-solidaridad-con-las-victimas-de-la-siniestralidad-laboral-y-sus-familias/
LOCATION:Parroquia San José de Romo\, Gexto\, Parroquia San José de Romo\, calle Ezequiel Agirre Kalea\, 19\, Getxo\, Vizcaya\, 48930
CATEGORIES:1Mayo
END:VEVENT
BEGIN:VEVENT
DTSTART;TZID=Europe/Madrid:20190429T180000
DTEND;TZID=Europe/Madrid:20190429T200000
DTSTAMP:20260419T172514
CREATED:20190429T074026Z
LAST-MODIFIED:20190429T085803Z
UID:2680-1556560800-1556568000@www.iglesiaporeltrabajodecente.org
SUMMARY:León | Happening por el Trabajo Decente
DESCRIPTION:Iglesia por el Trabajo Decente  de León organiza un happening en el Colegio Virgen Blanca. (C/ San Juan. León) a las 19 horas. \nAyúdanos a compartir este texto\n				Compartir en X (Se abre en una ventana nueva)\n				X\n			\n				Comparte en Facebook (Se abre en una ventana nueva)\n				Facebook\n			\n				Compartir en WhatsApp (Se abre en una ventana nueva)\n				WhatsApp\n			\n				Compartir en Telegram (Se abre en una ventana nueva)\n				Telegram\n			\n				Enviar un enlace a un amigo por correo electrónico (Se abre en una ventana nueva)\n				Correo electrónico
URL:https://www.iglesiaporeltrabajodecente.org/agenda/leon-happening-por-el-trabajo-decente/
LOCATION:Colegio Virgen Blanca de León\, León
CATEGORIES:1Mayo
ATTACH;FMTTYPE=image/jpeg:https://www.iglesiaporeltrabajodecente.org/wp-content/uploads/2019/04/happening.jpeg
END:VEVENT
BEGIN:VEVENT
DTSTART;TZID=Europe/Madrid:20190429T183000
DTEND;TZID=Europe/Madrid:20190429T200000
DTSTAMP:20260419T172514
CREATED:20190425T114443Z
LAST-MODIFIED:20190425T114810Z
UID:2654-1556562600-1556568000@www.iglesiaporeltrabajodecente.org
SUMMARY:Soria | Mesa redonda: La conciliación de la vida familiar y laboral
DESCRIPTION:Con motivo del 1º de mayo HOAC\, Cáritas y Pastoral Social organizan esta mesa redonda. Participan: Fernando Martín González\, Judith Borobio\, Cristina Ochagavia y el equipo de desarrollo de personas de Cáritas Española. \nAyúdanos a compartir este texto\n				Compartir en X (Se abre en una ventana nueva)\n				X\n			\n				Comparte en Facebook (Se abre en una ventana nueva)\n				Facebook\n			\n				Compartir en WhatsApp (Se abre en una ventana nueva)\n				WhatsApp\n			\n				Compartir en Telegram (Se abre en una ventana nueva)\n				Telegram\n			\n				Enviar un enlace a un amigo por correo electrónico (Se abre en una ventana nueva)\n				Correo electrónico
URL:https://www.iglesiaporeltrabajodecente.org/agenda/soria-celebracion-del-1o-de-mayo/
LOCATION:Círculo de la Amistad de Numancia\, Soria\, Calle el Collado\, 23\, Soria\, 42002
CATEGORIES:1Mayo
ATTACH;FMTTYPE=image/jpeg:https://www.iglesiaporeltrabajodecente.org/wp-content/uploads/2019/04/soria.jpg
END:VEVENT
BEGIN:VEVENT
DTSTART;TZID=Europe/Madrid:20190429T194500
DTEND;TZID=Europe/Madrid:20190429T204500
DTSTAMP:20260419T172514
CREATED:20190425T112659Z
LAST-MODIFIED:20190425T112659Z
UID:2639-1556567100-1556570700@www.iglesiaporeltrabajodecente.org
SUMMARY:Guadalajara | Día de los Trabajadores. Vigilia
DESCRIPTION:El Departamento de Pastoral Obrera de Guadalajara propone la celebración del Día Internacional de los Trabajadores con el compromiso de “Iglesia por el Trabajo Decente”\, que pide colocar explícitamente el “trabajo decente para todas las personas” entre los objetivos de Desarrollo Sostenible. \nSe celebrarán dos actos: el lunes 29\, la vigilia de oración por el mundo del trabajo\, en la parroquia de Alovera\, a las 20:45 horas; y el miércoles 1 de mayo\, fiesta del trabajo\, eucaristía en la concatedral de Santa María a las 11:00. \nAyúdanos a compartir este texto\n				Compartir en X (Se abre en una ventana nueva)\n				X\n			\n				Comparte en Facebook (Se abre en una ventana nueva)\n				Facebook\n			\n				Compartir en WhatsApp (Se abre en una ventana nueva)\n				WhatsApp\n			\n				Compartir en Telegram (Se abre en una ventana nueva)\n				Telegram\n			\n				Enviar un enlace a un amigo por correo electrónico (Se abre en una ventana nueva)\n				Correo electrónico
URL:https://www.iglesiaporeltrabajodecente.org/agenda/guadalajara-dia-de-los-trabajadores-vigilia/
LOCATION:Parroquia de Alovera\, Guadalajara\, Parroquia De San Miguel\, Calle Valmores\, 2\, Alovera\, Guadalajara
CATEGORIES:1Mayo
ATTACH;FMTTYPE=image/jpeg:https://www.iglesiaporeltrabajodecente.org/wp-content/uploads/2019/04/PASTORAL_OBRERA_GUADANEWS.jpg
END:VEVENT
END:VCALENDAR