BEGIN:VCALENDAR
VERSION:2.0
PRODID:-//#IglesiaporelTrabajoDecente • ITD - ECPv6.15.20//NONSGML v1.0//EN
CALSCALE:GREGORIAN
METHOD:PUBLISH
X-WR-CALNAME:#IglesiaporelTrabajoDecente • ITD
X-ORIGINAL-URL:https://www.iglesiaporeltrabajodecente.org
X-WR-CALDESC:Eventos para #IglesiaporelTrabajoDecente • ITD
REFRESH-INTERVAL;VALUE=DURATION:PT1H
X-Robots-Tag:noindex
X-PUBLISHED-TTL:PT1H
BEGIN:VTIMEZONE
TZID:Europe/Madrid
BEGIN:DAYLIGHT
TZOFFSETFROM:+0100
TZOFFSETTO:+0200
TZNAME:CEST
DTSTART:20180325T010000
END:DAYLIGHT
BEGIN:STANDARD
TZOFFSETFROM:+0200
TZOFFSETTO:+0100
TZNAME:CET
DTSTART:20181028T010000
END:STANDARD
BEGIN:DAYLIGHT
TZOFFSETFROM:+0100
TZOFFSETTO:+0200
TZNAME:CEST
DTSTART:20190331T010000
END:DAYLIGHT
BEGIN:STANDARD
TZOFFSETFROM:+0200
TZOFFSETTO:+0100
TZNAME:CET
DTSTART:20191027T010000
END:STANDARD
BEGIN:DAYLIGHT
TZOFFSETFROM:+0100
TZOFFSETTO:+0200
TZNAME:CEST
DTSTART:20200329T010000
END:DAYLIGHT
BEGIN:STANDARD
TZOFFSETFROM:+0200
TZOFFSETTO:+0100
TZNAME:CET
DTSTART:20201025T010000
END:STANDARD
END:VTIMEZONE
BEGIN:VEVENT
DTSTART;VALUE=DATE:20190204
DTEND;VALUE=DATE:20200101
DTSTAMP:20260419T140740
CREATED:20190205T102709Z
LAST-MODIFIED:20190205T102807Z
UID:2269-1549321200-1577833199@www.iglesiaporeltrabajodecente.org
SUMMARY:Campaña de adhesión a Iglesia por el Trabajo Decente
DESCRIPTION:La campaña de adhesión a la iniciativa Iglesia por el Trabajo Decente (ITD) está dirigida a parroquias\, grupos\, movimientos y organizaciones de la Iglesia que toman «conciencia de que el desempleo\, el trabajo precario\, la desigualdad en el acceso a un trabajo decente y la limitación al ejercicio de los derechos humanos que esto supone\, son un atentado a la dignidad humana» y animar a sumarse a la exigencia de trabajo decente\, que no es ajena en la Iglesia. \nPor citar algunos ejemplos\, en Caritas in veritate\, se señala que el trabajo decente es «expresión de la dignidad esencial de todo hombre o mujer» (n. 63). En Laudato si’ se insiste en la importancia de la dignidad del trabajo y del trabajo digno para la realización de la dignidad humana\, la lucha contra la pobreza y la configuración de una sociedad que\, con el trabajo de las personas\, cuide la vida de todos y la casa común\, realizando así la vocación humana (n. 128). Y en Iglesia\, servidora de los pobres\, instrucción pastoral de la Conferencia Episcopal Española\, señala que «para que el trabajo sirva para realizar a la persona\, además de satisfacer sus necesidades básicas\, ha de ser un trabajo digno y estable. (…) La política económica debe estar al servicio del trabajo digno. (…) Defender el trabajo decente significa poner en el centro a la persona en vez de la rentabilidad económica; ir más allá del empleo y distribuirlo justamente; reconocer los trabajos de cuidado necesarios para la vida; luchar por condiciones dignas y el cumplimiento de los derechos; conciliar trabajo y descanso; y desvincular derechos y empleo. Es una misión irrenunciable ante el aumento de las desigualdades y de la pobreza laboral. Y es esencial para una sociedad más decente» (3.6). \nPara solicitar la adhesión a ITD\, puede realizarse desde este formulario. \nAyúdanos a compartir este texto\n				Compartir en X (Se abre en una ventana nueva)\n				X\n			\n				Comparte en Facebook (Se abre en una ventana nueva)\n				Facebook\n			\n				Compartir en WhatsApp (Se abre en una ventana nueva)\n				WhatsApp\n			\n				Compartir en Telegram (Se abre en una ventana nueva)\n				Telegram\n			\n				Enviar un enlace a un amigo por correo electrónico (Se abre en una ventana nueva)\n				Correo electrónico
URL:https://www.iglesiaporeltrabajodecente.org/agenda/campana-de-adhesion-a-iglesia-por-el-trabajo-decente-2/
CATEGORIES:Adhesión
ATTACH;FMTTYPE=image/png:https://www.iglesiaporeltrabajodecente.org/wp-content/uploads/2017/05/itd_adhesion-04-1.png
ORGANIZER;CN="Iglesia por el Trabajo Decente":MAILTO:comunicacion@iglesiaporeltrabajodecente.org
END:VEVENT
BEGIN:VEVENT
DTSTART;TZID=Europe/Madrid:20190503T170000
DTEND;TZID=Europe/Madrid:20190503T200000
DTSTAMP:20260419T140740
CREATED:20190430T113355Z
LAST-MODIFIED:20190430T121452Z
UID:2777-1556902800-1556913600@www.iglesiaporeltrabajodecente.org
SUMMARY:Valencia | Celebración cristiana del 1º de Mayo
DESCRIPTION:El Primero de Mayo\, fiesta de san José obrero\, y Día internacional de los trabajadores y las trabajadoras\, se ha convertido en cita ineludible para la iniciativa Iglesia por el Trabajo Decente (ITD). Por segundo año consecutivo\, llama a movilizarse y celebrar\, a debatir y orar\, en este 2019\, contra la «indecente precariedad» que dificulta la vida digna para tantas personas y familias trabajadoras. \nHOAC València concreta su acción el próximo día 3 de mayo\, con: \n18h. Eucaristía\, en la iglesia de San Lorenzo\, presidida por el consiliario de la HOAC de la diócesis de València\, Aquilino Martínez Gallego. \n19h. Presentación pública del libro Propiedad de la empresa y bien común\, a cargo de Joan Sifre\, autor del capítulo 1\, ofreciéndonos una lectura actualizada desde la perspectiva sindical. \n20h. Picaeta compartida \nAyúdanos a compartir este texto\n				Compartir en X (Se abre en una ventana nueva)\n				X\n			\n				Comparte en Facebook (Se abre en una ventana nueva)\n				Facebook\n			\n				Compartir en WhatsApp (Se abre en una ventana nueva)\n				WhatsApp\n			\n				Compartir en Telegram (Se abre en una ventana nueva)\n				Telegram\n			\n				Enviar un enlace a un amigo por correo electrónico (Se abre en una ventana nueva)\n				Correo electrónico
URL:https://www.iglesiaporeltrabajodecente.org/agenda/valencia-celebracion-cristiana-del-1o-de-mayo/
LOCATION:HOAC Valencia\, calle de los Franciscano\, 1\, Valencia\, 46003
CATEGORIES:1Mayo
END:VEVENT
BEGIN:VEVENT
DTSTART;TZID=Europe/Madrid:20190503T180000
DTEND;TZID=Europe/Madrid:20190503T180000
DTSTAMP:20260419T140740
CREATED:20190429T100105Z
LAST-MODIFIED:20190429T100105Z
UID:2730-1556906400-1556906400@www.iglesiaporeltrabajodecente.org
SUMMARY:Barcelona | Celebración diocesana
DESCRIPTION:Celebració diocesana del 1er de Maig\, amb motiu de la Jornada Mundial dels treballadors i treballadores.\n\n\n\n\nAyúdanos a compartir este texto\n				Compartir en X (Se abre en una ventana nueva)\n				X\n			\n				Comparte en Facebook (Se abre en una ventana nueva)\n				Facebook\n			\n				Compartir en WhatsApp (Se abre en una ventana nueva)\n				WhatsApp\n			\n				Compartir en Telegram (Se abre en una ventana nueva)\n				Telegram\n			\n				Enviar un enlace a un amigo por correo electrónico (Se abre en una ventana nueva)\n				Correo electrónico
URL:https://www.iglesiaporeltrabajodecente.org/agenda/barcelona-celebracion-diocesana/
LOCATION:L’Església Mare de Déu de la Llum de l’Hospitalet del Llobregat\, Enginyer Moncunill\, 41\, Hospitalet del Llobregat\, Barcelona\, 08905
CATEGORIES:1Mayo
ATTACH;FMTTYPE=image/jpeg:https://www.iglesiaporeltrabajodecente.org/wp-content/uploads/2019/04/POB-Celebració-1erMaig2019.jpg
END:VEVENT
END:VCALENDAR