BEGIN:VCALENDAR
VERSION:2.0
PRODID:-//#IglesiaporelTrabajoDecente • ITD - ECPv6.15.20//NONSGML v1.0//EN
CALSCALE:GREGORIAN
METHOD:PUBLISH
X-ORIGINAL-URL:https://www.iglesiaporeltrabajodecente.org
X-WR-CALDESC:Eventos para #IglesiaporelTrabajoDecente • ITD
REFRESH-INTERVAL;VALUE=DURATION:PT1H
X-Robots-Tag:noindex
X-PUBLISHED-TTL:PT1H
BEGIN:VTIMEZONE
TZID:Europe/Madrid
BEGIN:DAYLIGHT
TZOFFSETFROM:+0100
TZOFFSETTO:+0200
TZNAME:CEST
DTSTART:20200329T010000
END:DAYLIGHT
BEGIN:STANDARD
TZOFFSETFROM:+0200
TZOFFSETTO:+0100
TZNAME:CET
DTSTART:20201025T010000
END:STANDARD
BEGIN:DAYLIGHT
TZOFFSETFROM:+0100
TZOFFSETTO:+0200
TZNAME:CEST
DTSTART:20210328T010000
END:DAYLIGHT
BEGIN:STANDARD
TZOFFSETFROM:+0200
TZOFFSETTO:+0100
TZNAME:CET
DTSTART:20211031T010000
END:STANDARD
BEGIN:DAYLIGHT
TZOFFSETFROM:+0100
TZOFFSETTO:+0200
TZNAME:CEST
DTSTART:20220327T010000
END:DAYLIGHT
BEGIN:STANDARD
TZOFFSETFROM:+0200
TZOFFSETTO:+0100
TZNAME:CET
DTSTART:20221030T010000
END:STANDARD
END:VTIMEZONE
BEGIN:VEVENT
DTSTART;TZID=Europe/Madrid:20211005T160000
DTEND;TZID=Europe/Madrid:20211005T180000
DTSTAMP:20260419T153322
CREATED:20210928T110917Z
LAST-MODIFIED:20210929T102538Z
UID:4384-1633449600-1633456800@www.iglesiaporeltrabajodecente.org
SUMMARY:Barcelona | Debate-coloquio: El paro\, ¿cosa de todos?
DESCRIPTION:El paro\, ¿cosa de todos? (L’atur\, cosa de tots?).  \nDebate con: \n\nAnton Costas\, catedrático de Economía y presidente del Consejo Económico y Social (CES) de España.\nTeresa Crespo\, licenciada en Historia. Expresidenta d’Entitats Catalanes d’Acció Social (ECAS).\nAlfred Pastor\, economista. Profesor emérito de IESE.\nManel Pérez (Moderador) – Periodista.\n\nSe podrá seguir en directo. \nAyúdanos a compartir este texto\n				Compartir en X (Se abre en una ventana nueva)\n				X\n			\n				Comparte en Facebook (Se abre en una ventana nueva)\n				Facebook\n			\n				Compartir en WhatsApp (Se abre en una ventana nueva)\n				WhatsApp\n			\n				Compartir en Telegram (Se abre en una ventana nueva)\n				Telegram\n			\n				Enviar un enlace a un amigo por correo electrónico (Se abre en una ventana nueva)\n				Correo electrónico
URL:https://www.iglesiaporeltrabajodecente.org/agenda/barcelona-debate-coloquio-el-paro-cosa-de-todos/
LOCATION:Palau Robert de Barcelona\, Passeig de Gràcia\, 107\, Barcelona\, 08008
CATEGORIES:JMTD 2021
END:VEVENT
END:VCALENDAR