BEGIN:VCALENDAR
VERSION:2.0
PRODID:-//#IglesiaporelTrabajoDecente • ITD - ECPv6.15.20//NONSGML v1.0//EN
CALSCALE:GREGORIAN
METHOD:PUBLISH
X-WR-CALNAME:#IglesiaporelTrabajoDecente • ITD
X-ORIGINAL-URL:https://www.iglesiaporeltrabajodecente.org
X-WR-CALDESC:Eventos para #IglesiaporelTrabajoDecente • ITD
REFRESH-INTERVAL;VALUE=DURATION:PT1H
X-Robots-Tag:noindex
X-PUBLISHED-TTL:PT1H
BEGIN:VTIMEZONE
TZID:Europe/Madrid
BEGIN:DAYLIGHT
TZOFFSETFROM:+0100
TZOFFSETTO:+0200
TZNAME:CEST
DTSTART:20200329T010000
END:DAYLIGHT
BEGIN:STANDARD
TZOFFSETFROM:+0200
TZOFFSETTO:+0100
TZNAME:CET
DTSTART:20201025T010000
END:STANDARD
BEGIN:DAYLIGHT
TZOFFSETFROM:+0100
TZOFFSETTO:+0200
TZNAME:CEST
DTSTART:20210328T010000
END:DAYLIGHT
BEGIN:STANDARD
TZOFFSETFROM:+0200
TZOFFSETTO:+0100
TZNAME:CET
DTSTART:20211031T010000
END:STANDARD
BEGIN:DAYLIGHT
TZOFFSETFROM:+0100
TZOFFSETTO:+0200
TZNAME:CEST
DTSTART:20220327T010000
END:DAYLIGHT
BEGIN:STANDARD
TZOFFSETFROM:+0200
TZOFFSETTO:+0100
TZNAME:CET
DTSTART:20221030T010000
END:STANDARD
END:VTIMEZONE
BEGIN:VEVENT
DTSTART;TZID=Europe/Madrid:20211010T110000
DTEND;TZID=Europe/Madrid:20211010T110000
DTSTAMP:20260419T153019
CREATED:20210923T143801Z
LAST-MODIFIED:20210923T143801Z
UID:4351-1633863600-1633863600@www.iglesiaporeltrabajodecente.org
SUMMARY:San Fernando | Eucaristía y Gesto público
DESCRIPTION:Eucaristía y Acto gesto público\nParroquia del Buen Pastor. San Fernando (Cádiz)\nOrganiza: Pastoral Obrera\, HOAC y Cáritas diocesana \nAyúdanos a compartir este texto\n				Compartir en X (Se abre en una ventana nueva)\n				X\n			\n				Comparte en Facebook (Se abre en una ventana nueva)\n				Facebook\n			\n				Compartir en WhatsApp (Se abre en una ventana nueva)\n				WhatsApp\n			\n				Compartir en Telegram (Se abre en una ventana nueva)\n				Telegram\n			\n				Enviar un enlace a un amigo por correo electrónico (Se abre en una ventana nueva)\n				Correo electrónico
URL:https://www.iglesiaporeltrabajodecente.org/agenda/san-fernando-eucaristia-y-gesto-publico/
LOCATION:Parroquia del Buen Pastor.\, San Fernando\, Cádiz
CATEGORIES:JMTD 2021
END:VEVENT
BEGIN:VEVENT
DTSTART;TZID=Europe/Madrid:20211010T113000
DTEND;TZID=Europe/Madrid:20211010T113000
DTSTAMP:20260419T153019
CREATED:20211002T161322Z
LAST-MODIFIED:20211004T075425Z
UID:4500-1633865400-1633865400@www.iglesiaporeltrabajodecente.org
SUMMARY:Sigüenza-Guadalajara | Eucaristía por el Trabajo Decente
DESCRIPTION:  \nOrganizan: Cáritas\, Confer\, Del. Migraciones\, Hoac\, Guada-acoge\, Dep. Pastoral del Trabajo \nAyúdanos a compartir este texto\n				Compartir en X (Se abre en una ventana nueva)\n				X\n			\n				Comparte en Facebook (Se abre en una ventana nueva)\n				Facebook\n			\n				Compartir en WhatsApp (Se abre en una ventana nueva)\n				WhatsApp\n			\n				Compartir en Telegram (Se abre en una ventana nueva)\n				Telegram\n			\n				Enviar un enlace a un amigo por correo electrónico (Se abre en una ventana nueva)\n				Correo electrónico
URL:https://www.iglesiaporeltrabajodecente.org/agenda/siguenza-guadalajara-eucaristia-por-el-trabajo-decente/
LOCATION:Parroquia San José Artesano\, C/Jaraba\, 11 (Manantiales)\, Guadalajara
CATEGORIES:JMTD 2021
END:VEVENT
END:VCALENDAR