BEGIN:VCALENDAR
VERSION:2.0
PRODID:-//#IglesiaporelTrabajoDecente • ITD - ECPv6.15.20//NONSGML v1.0//EN
CALSCALE:GREGORIAN
METHOD:PUBLISH
X-ORIGINAL-URL:https://www.iglesiaporeltrabajodecente.org
X-WR-CALDESC:Eventos para #IglesiaporelTrabajoDecente • ITD
REFRESH-INTERVAL;VALUE=DURATION:PT1H
X-Robots-Tag:noindex
X-PUBLISHED-TTL:PT1H
BEGIN:VTIMEZONE
TZID:Europe/Madrid
BEGIN:DAYLIGHT
TZOFFSETFROM:+0100
TZOFFSETTO:+0200
TZNAME:CEST
DTSTART:20210328T010000
END:DAYLIGHT
BEGIN:STANDARD
TZOFFSETFROM:+0200
TZOFFSETTO:+0100
TZNAME:CET
DTSTART:20211031T010000
END:STANDARD
BEGIN:DAYLIGHT
TZOFFSETFROM:+0100
TZOFFSETTO:+0200
TZNAME:CEST
DTSTART:20220327T010000
END:DAYLIGHT
BEGIN:STANDARD
TZOFFSETFROM:+0200
TZOFFSETTO:+0100
TZNAME:CET
DTSTART:20221030T010000
END:STANDARD
BEGIN:DAYLIGHT
TZOFFSETFROM:+0100
TZOFFSETTO:+0200
TZNAME:CEST
DTSTART:20230326T010000
END:DAYLIGHT
BEGIN:STANDARD
TZOFFSETFROM:+0200
TZOFFSETTO:+0100
TZNAME:CET
DTSTART:20231029T010000
END:STANDARD
END:VTIMEZONE
BEGIN:VEVENT
DTSTART;TZID=Europe/Madrid:20221014T190000
DTEND;TZID=Europe/Madrid:20221014T200000
DTSTAMP:20260423T124324
CREATED:20221010T112505Z
LAST-MODIFIED:20221010T112505Z
UID:5044-1665774000-1665777600@www.iglesiaporeltrabajodecente.org
SUMMARY:Cabra | Vigilia de Oración
DESCRIPTION:Vigilia de Oración «Sin compromiso no hay trabajo decente». \nParticipan: Todas los militantes y miembros de las organizaciones convocantes así como los asistentes que lo deseen. \nOrganizan: EPPOs de las parroquias de San Francisco y San Rodrigo\, Santo Domingo y Ntra Sra de los Remedios\, Hermanas Franciscanas\, Manos Unidas\, Mujeres y Teología\, Cáritas\, HOAC y el Secretariado diocesano de Pastoral del Trabajo. \nAyúdanos a compartir este texto\n				Compartir en X (Se abre en una ventana nueva)\n				X\n			\n				Comparte en Facebook (Se abre en una ventana nueva)\n				Facebook\n			\n				Compartir en WhatsApp (Se abre en una ventana nueva)\n				WhatsApp\n			\n				Compartir en Telegram (Se abre en una ventana nueva)\n				Telegram\n			\n				Enviar un enlace a un amigo por correo electrónico (Se abre en una ventana nueva)\n				Correo electrónico
URL:https://www.iglesiaporeltrabajodecente.org/agenda/cabra-vigilia-de-oracion/
LOCATION:Iglesia de San Juan de Dios de Cabra (Córdoba)\, C/ José de Silva\, 3\, Cabra\, Córdoba\, 14940
CATEGORIES:JMTD 2022
END:VEVENT
END:VCALENDAR