BEGIN:VCALENDAR
VERSION:2.0
PRODID:-//#IglesiaporelTrabajoDecente • ITD - ECPv6.15.20//NONSGML v1.0//EN
CALSCALE:GREGORIAN
METHOD:PUBLISH
X-WR-CALNAME:#IglesiaporelTrabajoDecente • ITD
X-ORIGINAL-URL:https://www.iglesiaporeltrabajodecente.org
X-WR-CALDESC:Eventos para #IglesiaporelTrabajoDecente • ITD
REFRESH-INTERVAL;VALUE=DURATION:PT1H
X-Robots-Tag:noindex
X-PUBLISHED-TTL:PT1H
BEGIN:VTIMEZONE
TZID:Europe/Madrid
BEGIN:DAYLIGHT
TZOFFSETFROM:+0100
TZOFFSETTO:+0200
TZNAME:CEST
DTSTART:20210328T010000
END:DAYLIGHT
BEGIN:STANDARD
TZOFFSETFROM:+0200
TZOFFSETTO:+0100
TZNAME:CET
DTSTART:20211031T010000
END:STANDARD
BEGIN:DAYLIGHT
TZOFFSETFROM:+0100
TZOFFSETTO:+0200
TZNAME:CEST
DTSTART:20220327T010000
END:DAYLIGHT
BEGIN:STANDARD
TZOFFSETFROM:+0200
TZOFFSETTO:+0100
TZNAME:CET
DTSTART:20221030T010000
END:STANDARD
BEGIN:DAYLIGHT
TZOFFSETFROM:+0100
TZOFFSETTO:+0200
TZNAME:CEST
DTSTART:20230326T010000
END:DAYLIGHT
BEGIN:STANDARD
TZOFFSETFROM:+0200
TZOFFSETTO:+0100
TZNAME:CET
DTSTART:20231029T010000
END:STANDARD
END:VTIMEZONE
BEGIN:VEVENT
DTSTART;TZID=Europe/Madrid:20221015T190000
DTEND;TZID=Europe/Madrid:20221015T203000
DTSTAMP:20260423T105527
CREATED:20221003T072108Z
LAST-MODIFIED:20221003T081432Z
UID:4927-1665860400-1665865800@www.iglesiaporeltrabajodecente.org
SUMMARY:Canarias |  Marcha y Eucaristía
DESCRIPTION:19:00 h. Llegada a la parroquia Ntra. Sra. de la Candelaria en Ingenio. \nRegistro de participantes y Kms recorridos por cada persona para llegar \n19:30 h. – Eucaristía con la Comunidad parroquial. \nLectura del manifiesto “Sin compromiso no hay trabajo decente” \nBrindis y compartir entre todos y todas \nAyúdanos a compartir este texto\n				Compartir en X (Se abre en una ventana nueva)\n				X\n			\n				Comparte en Facebook (Se abre en una ventana nueva)\n				Facebook\n			\n				Compartir en WhatsApp (Se abre en una ventana nueva)\n				WhatsApp\n			\n				Compartir en Telegram (Se abre en una ventana nueva)\n				Telegram\n			\n				Enviar un enlace a un amigo por correo electrónico (Se abre en una ventana nueva)\n				Correo electrónico
URL:https://www.iglesiaporeltrabajodecente.org/agenda/canarias-marcha-y-eucaristia/
LOCATION:parroquia Ntra. Sra. de la Candelaria en Ingenio\, Plaza de Ntra. Sra. de la Candelaria\, Ingenio\, 35250
CATEGORIES:JMTD 2022
END:VEVENT
END:VCALENDAR