BEGIN:VCALENDAR
VERSION:2.0
PRODID:-//#IglesiaporelTrabajoDecente • ITD - ECPv6.15.20//NONSGML v1.0//EN
CALSCALE:GREGORIAN
METHOD:PUBLISH
X-WR-CALNAME:#IglesiaporelTrabajoDecente • ITD
X-ORIGINAL-URL:https://www.iglesiaporeltrabajodecente.org
X-WR-CALDESC:Eventos para #IglesiaporelTrabajoDecente • ITD
REFRESH-INTERVAL;VALUE=DURATION:PT1H
X-Robots-Tag:noindex
X-PUBLISHED-TTL:PT1H
BEGIN:VTIMEZONE
TZID:Europe/Madrid
BEGIN:DAYLIGHT
TZOFFSETFROM:+0100
TZOFFSETTO:+0200
TZNAME:CEST
DTSTART:20200329T010000
END:DAYLIGHT
BEGIN:STANDARD
TZOFFSETFROM:+0200
TZOFFSETTO:+0100
TZNAME:CET
DTSTART:20201025T010000
END:STANDARD
BEGIN:DAYLIGHT
TZOFFSETFROM:+0100
TZOFFSETTO:+0200
TZNAME:CEST
DTSTART:20210328T010000
END:DAYLIGHT
BEGIN:STANDARD
TZOFFSETFROM:+0200
TZOFFSETTO:+0100
TZNAME:CET
DTSTART:20211031T010000
END:STANDARD
BEGIN:DAYLIGHT
TZOFFSETFROM:+0100
TZOFFSETTO:+0200
TZNAME:CEST
DTSTART:20220327T010000
END:DAYLIGHT
BEGIN:STANDARD
TZOFFSETFROM:+0200
TZOFFSETTO:+0100
TZNAME:CET
DTSTART:20221030T010000
END:STANDARD
END:VTIMEZONE
BEGIN:VEVENT
DTSTART;TZID=Europe/Madrid:20211211T110000
DTEND;TZID=Europe/Madrid:20211211T130000
DTSTAMP:20260419T172248
CREATED:20211209T111520Z
LAST-MODIFIED:20211209T111520Z
UID:4612-1639220400-1639227600@www.iglesiaporeltrabajodecente.org
SUMMARY:Encuentro ITD diocesanas
DESCRIPTION:El encuentro de diálogo para compartir los próximos retos y prioridades que permitan fortalecer esta red de iniciativas y así continuar caminando juntas para “favorecer dinámicas de sensibilización\, visibilización y denuncia sobre una cuestión central en la sociedad y esencial para la vida de millones de personas: el trabajo humano y anunciar el concepto de trabajo decente hacia el interior de nuestras organizaciones\, hacia la Iglesia en general y hacia la sociedad”. \nEn el encuentro\, el primero que se realiza con estas características\, está prevista la participación de 23 diócesis junto con Cáritas\, CONFER\, la Hermandad Obrera de Acción Católica (HOAC)\, la Juventud Obrera Cristiana (JOC)\, la Juventud Estudiante Católica (JEC) y Justicia y Paz\, entidades promotoras de la iniciativa Iglesia por el Trabajo Decente. \nAdemás\, acompañando este proceso\, intervendrán Abilio Martínez\, obispo de Osma-Soria y responsable de la Pastoral del Trabajo; y Antonio J. Aranda\, director del departamento de la misma pastoral de la Conferencia Episcopal Española. \n  \nAyúdanos a compartir este texto\n				Compartir en X (Se abre en una ventana nueva)\n				X\n			\n				Comparte en Facebook (Se abre en una ventana nueva)\n				Facebook\n			\n				Compartir en WhatsApp (Se abre en una ventana nueva)\n				WhatsApp\n			\n				Compartir en Telegram (Se abre en una ventana nueva)\n				Telegram\n			\n				Enviar un enlace a un amigo por correo electrónico (Se abre en una ventana nueva)\n				Correo electrónico
URL:https://www.iglesiaporeltrabajodecente.org/agenda/encuentro-itd-diocesanas/
LOCATION:Internet
CATEGORIES:Prioridades
ATTACH;FMTTYPE=image/png:https://www.iglesiaporeltrabajodecente.org/wp-content/uploads/2017/04/nube_tags_tansparente-01-e1639048496694.png
ORGANIZER;CN="Iglesia por el Trabajo Decente":MAILTO:comunicacion@iglesiaporeltrabajodecente.org
END:VEVENT
END:VCALENDAR