BEGIN:VCALENDAR
VERSION:2.0
PRODID:-//#IglesiaporelTrabajoDecente • ITD - ECPv6.15.20//NONSGML v1.0//EN
CALSCALE:GREGORIAN
METHOD:PUBLISH
X-WR-CALNAME:#IglesiaporelTrabajoDecente • ITD
X-ORIGINAL-URL:https://www.iglesiaporeltrabajodecente.org
X-WR-CALDESC:Eventos para #IglesiaporelTrabajoDecente • ITD
REFRESH-INTERVAL;VALUE=DURATION:PT1H
X-Robots-Tag:noindex
X-PUBLISHED-TTL:PT1H
BEGIN:VTIMEZONE
TZID:Europe/Madrid
BEGIN:DAYLIGHT
TZOFFSETFROM:+0100
TZOFFSETTO:+0200
TZNAME:CEST
DTSTART:20210328T010000
END:DAYLIGHT
BEGIN:STANDARD
TZOFFSETFROM:+0200
TZOFFSETTO:+0100
TZNAME:CET
DTSTART:20211031T010000
END:STANDARD
BEGIN:DAYLIGHT
TZOFFSETFROM:+0100
TZOFFSETTO:+0200
TZNAME:CEST
DTSTART:20220327T010000
END:DAYLIGHT
BEGIN:STANDARD
TZOFFSETFROM:+0200
TZOFFSETTO:+0100
TZNAME:CET
DTSTART:20221030T010000
END:STANDARD
BEGIN:DAYLIGHT
TZOFFSETFROM:+0100
TZOFFSETTO:+0200
TZNAME:CEST
DTSTART:20230326T010000
END:DAYLIGHT
BEGIN:STANDARD
TZOFFSETFROM:+0200
TZOFFSETTO:+0100
TZNAME:CET
DTSTART:20231029T010000
END:STANDARD
END:VTIMEZONE
BEGIN:VEVENT
DTSTART;TZID=Europe/Madrid:20220926T120000
DTEND;TZID=Europe/Madrid:20220926T170000
DTSTAMP:20260419T153222
CREATED:20220926T075608Z
LAST-MODIFIED:20220926T090421Z
UID:4834-1664193600-1664211600@www.iglesiaporeltrabajodecente.org
SUMMARY:Segorbe-Castellón | Avanzamos por el trabajo decente
DESCRIPTION:Gesto «AVANZAMOS POR EL TRABAJO DECENTE». Nos haremos fotos andando o corriendo y las compartiremos por redes. Participan Movimientos\, parroquias\, grupos… y personas individuales. \nUna campaña organizada por: Secretariado de Migraciones\, Secretariado de Apostolado del Mar\, Secretario de Pastoral del Trabajo\, Cáritas\, CONFER\, FRATER y HOAC. \nAyúdanos a compartir este texto\n				Compartir en X (Se abre en una ventana nueva)\n				X\n			\n				Comparte en Facebook (Se abre en una ventana nueva)\n				Facebook\n			\n				Compartir en WhatsApp (Se abre en una ventana nueva)\n				WhatsApp\n			\n				Compartir en Telegram (Se abre en una ventana nueva)\n				Telegram\n			\n				Enviar un enlace a un amigo por correo electrónico (Se abre en una ventana nueva)\n				Correo electrónico
URL:https://www.iglesiaporeltrabajodecente.org/agenda/segorbe-castellon-avanzamos-por-el-trabajo-decente/
LOCATION:Castellón
CATEGORIES:JMTD 2022
END:VEVENT
BEGIN:VEVENT
DTSTART;TZID=Europe/Madrid:20220929T103000
DTEND;TZID=Europe/Madrid:20220929T103000
DTSTAMP:20260419T153222
CREATED:20220916T100538Z
LAST-MODIFIED:20220916T100538Z
UID:4770-1664447400-1664447400@www.iglesiaporeltrabajodecente.org
SUMMARY:Presentación del manifiesto de la Jornada Mundial por el Trabajo Decente 2022
DESCRIPTION:■ Publicación del manifiesto de la Jornada Mundial por el Trabajo Decente 2022 en www.iglesiaporeltrabajodecente.org \n■ Presentación del manifiesto a los medios de comunicación. Nota de prensa\, convocatorias\, actos e inicio de la microcampaña en redes sociales. \n■ Toda la información de la convocatoria de la jornada\, aquí. \nAyúdanos a compartir este texto\n				Compartir en X (Se abre en una ventana nueva)\n				X\n			\n				Comparte en Facebook (Se abre en una ventana nueva)\n				Facebook\n			\n				Compartir en WhatsApp (Se abre en una ventana nueva)\n				WhatsApp\n			\n				Compartir en Telegram (Se abre en una ventana nueva)\n				Telegram\n			\n				Enviar un enlace a un amigo por correo electrónico (Se abre en una ventana nueva)\n				Correo electrónico
URL:https://www.iglesiaporeltrabajodecente.org/agenda/presentacion-del-manifiesto-de-la-jornada-mundial-por-el-trabajo-decente-2022/
LOCATION:Internet > Redes sociales
CATEGORIES:JMTD 2022
ORGANIZER;CN="Iglesia por el Trabajo Decente":MAILTO:comunicacion@iglesiaporeltrabajodecente.org
END:VEVENT
BEGIN:VEVENT
DTSTART;TZID=Europe/Madrid:20220929T103500
DTEND;TZID=Europe/Madrid:20221007T230000
DTSTAMP:20260419T153222
CREATED:20220916T100948Z
LAST-MODIFIED:20220916T102837Z
UID:4772-1664447700-1665183600@www.iglesiaporeltrabajodecente.org
SUMMARY:Campaña en redes sociales de la Jornada Mundial por el Trabajo Decente 2022
DESCRIPTION:Con la publicación del manifiesto y de la nota de prensa\, previsto para el día 29 de septiembre\, la iniciativa Iglesia por el Trabajo Decente pone en marcha una microcampaña en redes sociales. Una acción abierta a quienes quieran favorecer la difusión de sus contenidos y conversar sobre ellos. \n■ La etiqueta (hashtag) se anunciará en breve. \n■ Compartiremos los principales contenidos del manifiesto y de la nota de prensa\, junto con algunas imágenes de esta microcampaña. \n■ Además\, los participantes del acto de esta convocatoria están invitados a publicar sus fotografías en sus redes sociales con la etiqueta de la convocatoria. \n■ Nosotros lo haremos desde la cuenta de ITD en Twitter (@IglesiaxTD) y desde los perfiles de las entidades promotoras en Facebook\, Instagram y Twitter. \nRecursos \n■ Documento de orientaciones (En breve estará disponible) \n■ Imágenes para redes sociales. (En breve estarán disponibles) \nAyúdanos a compartir este texto\n				Compartir en X (Se abre en una ventana nueva)\n				X\n			\n				Comparte en Facebook (Se abre en una ventana nueva)\n				Facebook\n			\n				Compartir en WhatsApp (Se abre en una ventana nueva)\n				WhatsApp\n			\n				Compartir en Telegram (Se abre en una ventana nueva)\n				Telegram\n			\n				Enviar un enlace a un amigo por correo electrónico (Se abre en una ventana nueva)\n				Correo electrónico
URL:https://www.iglesiaporeltrabajodecente.org/agenda/campana-en-redes-sociales-de-la-jornada-mundial-por-el-trabajo-decente-2022/
LOCATION:Internet > Redes sociales
CATEGORIES:JMTD 2022
ORGANIZER;CN="Iglesia por el Trabajo Decente":MAILTO:comunicacion@iglesiaporeltrabajodecente.org
END:VEVENT
BEGIN:VEVENT
DTSTART;TZID=Europe/Madrid:20220930T080000
DTEND;TZID=Europe/Madrid:20221013T170000
DTSTAMP:20260419T153222
CREATED:20220930T083437Z
LAST-MODIFIED:20220930T083437Z
UID:4884-1664524800-1665680400@www.iglesiaporeltrabajodecente.org
SUMMARY:Bilbao | “Arin-Arin Lan Duin! Avanzamos por el Trabajo decente”
DESCRIPTION:Ante la Jornada Mundial por el Trabajo Decente\, os invitamos a sumar en la defensa de un trabajo digno para todos y todas\, y contra la precariedad laboral. ¡¡¡SUMA TUS PASOS!!! \nDesde las unidades pastorales\, parroquias\, áreas pastorales\, movimientos\, asociaciones\, centros y proyectos de Cáritas\, aulas\, grupos de amistad… vamos uniendo nuestros pasos a\ntantos otros. Nos ponemos el dorsal. Contamos los kilómetros. Nos hacemos una foto o un vídeo y lo enviamos\, hasta el 13 de octubre\, al tfno: 605764775 o a pastoralobrera@bizkeliza.org \n  \nAyúdanos a compartir este texto\n				Compartir en X (Se abre en una ventana nueva)\n				X\n			\n				Comparte en Facebook (Se abre en una ventana nueva)\n				Facebook\n			\n				Compartir en WhatsApp (Se abre en una ventana nueva)\n				WhatsApp\n			\n				Compartir en Telegram (Se abre en una ventana nueva)\n				Telegram\n			\n				Enviar un enlace a un amigo por correo electrónico (Se abre en una ventana nueva)\n				Correo electrónico
URL:https://www.iglesiaporeltrabajodecente.org/agenda/bilbao-arin-arin-lan-duin-avanzamos-por-el-trabajo-decente/
CATEGORIES:JMTD 2022
END:VEVENT
BEGIN:VEVENT
DTSTART;TZID=Europe/Madrid:20220930T193000
DTEND;TZID=Europe/Madrid:20220930T210000
DTSTAMP:20260419T153222
CREATED:20220928T081349Z
LAST-MODIFIED:20220928T081349Z
UID:4860-1664566200-1664571600@www.iglesiaporeltrabajodecente.org
SUMMARY:Granada | Sin compromiso no hay trabajo decente (Testimonios)
DESCRIPTION:Con motivo de la Jornada Mundial por el trabajo decente\, que es compartida con la Organización Internacional del Trabajo (OIT)\, el movimiento sindical mundial y el movimiento mundial de trabajadores cristianos\, se convoca durante ese mes\, en las diócesis del país\, gestos y actividades públicas para sensibilizar y visibilizar la importancia de extender en la sociedad y en la Iglesia la defensa del trabajo decente \nTestimonios. Presentación de ITD y experiencias de vida compartida. \nAyúdanos a compartir este texto\n				Compartir en X (Se abre en una ventana nueva)\n				X\n			\n				Comparte en Facebook (Se abre en una ventana nueva)\n				Facebook\n			\n				Compartir en WhatsApp (Se abre en una ventana nueva)\n				WhatsApp\n			\n				Compartir en Telegram (Se abre en una ventana nueva)\n				Telegram\n			\n				Enviar un enlace a un amigo por correo electrónico (Se abre en una ventana nueva)\n				Correo electrónico
URL:https://www.iglesiaporeltrabajodecente.org/agenda/granada-sin-compromiso-no-hay-trabajo-decente-testimonios/
LOCATION:Parroquia Inmaculada Niña de Granada\, C. Mercedes Gaibrois\, 37\, Granada\, 18008\, España
CATEGORIES:JMTD 2022
END:VEVENT
END:VCALENDAR